BEGIN:VCALENDAR
VERSION:2.0
PRODID:-//Slim Chance - ECPv6.15.20//NONSGML v1.0//EN
CALSCALE:GREGORIAN
METHOD:PUBLISH
X-WR-CALNAME:Slim Chance
X-ORIGINAL-URL:https://www.slim-chance.co.uk
X-WR-CALDESC:Events for Slim Chance
REFRESH-INTERVAL;VALUE=DURATION:PT1H
X-Robots-Tag:noindex
X-PUBLISHED-TTL:PT1H
BEGIN:VTIMEZONE
TZID:Europe/London
BEGIN:DAYLIGHT
TZOFFSETFROM:+0000
TZOFFSETTO:+0100
TZNAME:BST
DTSTART:20200329T010000
END:DAYLIGHT
BEGIN:STANDARD
TZOFFSETFROM:+0100
TZOFFSETTO:+0000
TZNAME:GMT
DTSTART:20201025T010000
END:STANDARD
BEGIN:DAYLIGHT
TZOFFSETFROM:+0000
TZOFFSETTO:+0100
TZNAME:BST
DTSTART:20210328T010000
END:DAYLIGHT
BEGIN:STANDARD
TZOFFSETFROM:+0100
TZOFFSETTO:+0000
TZNAME:GMT
DTSTART:20211031T010000
END:STANDARD
BEGIN:DAYLIGHT
TZOFFSETFROM:+0000
TZOFFSETTO:+0100
TZNAME:BST
DTSTART:20220327T010000
END:DAYLIGHT
BEGIN:STANDARD
TZOFFSETFROM:+0100
TZOFFSETTO:+0000
TZNAME:GMT
DTSTART:20221030T010000
END:STANDARD
BEGIN:DAYLIGHT
TZOFFSETFROM:+0000
TZOFFSETTO:+0100
TZNAME:BST
DTSTART:20230326T010000
END:DAYLIGHT
BEGIN:STANDARD
TZOFFSETFROM:+0100
TZOFFSETTO:+0000
TZNAME:GMT
DTSTART:20231029T010000
END:STANDARD
END:VTIMEZONE
BEGIN:VEVENT
DTSTART;TZID=Europe/London:20220429T193000
DTEND;TZID=Europe/London:20220429T230000
DTSTAMP:20260419T163642
CREATED:20210413T170242Z
LAST-MODIFIED:20220204T110816Z
UID:65-1651260600-1651273200@www.slim-chance.co.uk
SUMMARY:Greystones
DESCRIPTION:BOOK YOUR TICKETS
URL:https://www.slim-chance.co.uk/event/greystones/
LOCATION:The Greystones\, Greystones Rd\, Sheffield\, S11 7BS\, United Kingdom
ATTACH;FMTTYPE=image/png:https://www.slim-chance.co.uk/wp-content/uploads/2021/04/poster-greystones-april22-trans-700.png
END:VEVENT
BEGIN:VEVENT
DTSTART;TZID=Europe/London:20220401T190000
DTEND;TZID=Europe/London:20220401T230000
DTSTAMP:20260419T163642
CREATED:20220225T135841Z
LAST-MODIFIED:20220304T183222Z
UID:1220-1648839600-1648854000@www.slim-chance.co.uk
SUMMARY:Slim Chance |  Esher Theatre
DESCRIPTION:It’s Ronnie’s birthday!\nCome and celebrate with us\, it will be a night of good music and great company.\nThe gig will also feature the excellent Peter Donegan\, son of Lonnie Donegan. \nPart of the Kid Jensen presents series at Esher Theatre. \nBOOK YOUR TICKETS \n  \n 
URL:https://www.slim-chance.co.uk/event/slim-chance-esher-theatre/
LOCATION:Esher Theatre\, Community Walk\, Esher\, KT10 9RA\, United Kingdom
ATTACH;FMTTYPE=image/jpeg:https://www.slim-chance.co.uk/wp-content/uploads/2022/02/slim-chance-1000.jpg
END:VEVENT
BEGIN:VEVENT
DTSTART;TZID=Europe/London:20220217T200000
DTEND;TZID=Europe/London:20220217T230000
DTSTAMP:20260419T163642
CREATED:20211011T174910Z
LAST-MODIFIED:20211011T175109Z
UID:1134-1645128000-1645138800@www.slim-chance.co.uk
SUMMARY:Eel Pie Club
DESCRIPTION:BOOK YOUR TICKETS \n 
URL:https://www.slim-chance.co.uk/event/eel-pie-club/
LOCATION:Eel Pie Club\, The Patch\, 67 London Road\, Twickenham\, London\, TW1 3SZ\, United Kingdom
ATTACH;FMTTYPE=image/jpeg:https://www.slim-chance.co.uk/wp-content/uploads/2021/10/cabbage-patch-750.jpg
END:VEVENT
BEGIN:VEVENT
DTSTART;TZID=Europe/London:20220216T190000
DTEND;TZID=Europe/London:20220216T230000
DTSTAMP:20260419T163642
CREATED:20220123T134650Z
LAST-MODIFIED:20220123T135632Z
UID:1208-1645038000-1645052400@www.slim-chance.co.uk
SUMMARY:Duke of Cumberland
DESCRIPTION:BOOK YOUR TICKETS
URL:https://www.slim-chance.co.uk/event/duke-of-cumberland-2/
LOCATION:Duke of Cumberland\, High Street\, Whitstable\, Kent\, CT5 1AP\, United Kingdom
ATTACH;FMTTYPE=image/jpeg:https://www.slim-chance.co.uk/wp-content/uploads/2021/04/duke-cumberland-700.jpg
END:VEVENT
BEGIN:VEVENT
DTSTART;TZID=Europe/London:20211215T200000
DTEND;TZID=Europe/London:20211215T230000
DTSTAMP:20260419T163642
CREATED:20210413T164450Z
LAST-MODIFIED:20210722T125726Z
UID:55-1639598400-1639609200@www.slim-chance.co.uk
SUMMARY:The Water Rats
DESCRIPTION:UPDATE: Due to Covid restrictictions this date has now been postponed until 15/12/21\nHope you can come. \nBOOK YOUR TICKETS \n 
URL:https://www.slim-chance.co.uk/event/the-water-rats/
LOCATION:The Water Rats\, 328 Grays Inn Road\, London\, WC1X 8BZ\, United Kingdom
ATTACH;FMTTYPE=image/jpeg:https://www.slim-chance.co.uk/wp-content/uploads/2021/04/water-rats700.jpg
END:VEVENT
BEGIN:VEVENT
DTSTART;TZID=Europe/London:20211017T200000
DTEND;TZID=Europe/London:20211017T230000
DTSTAMP:20260419T163642
CREATED:20210719T170238Z
LAST-MODIFIED:20210722T125701Z
UID:1056-1634500800-1634511600@www.slim-chance.co.uk
SUMMARY:Half Moon Putney
DESCRIPTION:Slim Chance are back at the Half Moon Putney \nBook your ticket \n 
URL:https://www.slim-chance.co.uk/event/half-moon-putney/
LOCATION:Half Moon\, 93 Lower Richmond Road\, London\, SW15 1EU\, United Kingdom
ATTACH;FMTTYPE=image/jpeg:https://www.slim-chance.co.uk/wp-content/uploads/2021/07/half_moon3b.jpg
END:VEVENT
BEGIN:VEVENT
DTSTART;TZID=Europe/London:20211015T200000
DTEND;TZID=Europe/London:20211015T223000
DTSTAMP:20260419T163642
CREATED:20210429T145410Z
LAST-MODIFIED:20211011T180441Z
UID:962-1634328000-1634337000@www.slim-chance.co.uk
SUMMARY:Wokingham Music Club
DESCRIPTION:BOOK YOUR TICKETS \n 
URL:https://www.slim-chance.co.uk/event/wokingham-music-club/
LOCATION:Wokingham Music Club\, The Royal British Legion Club\, Woodward Cl\, Winnersh\, RG41 5LP\, United Kingdom
ATTACH;FMTTYPE=image/jpeg:https://www.slim-chance.co.uk/wp-content/uploads/2021/10/wokingham-live-music.jpg
END:VEVENT
BEGIN:VEVENT
DTSTART;TZID=Europe/London:20211002T200000
DTEND;TZID=Europe/London:20211002T223000
DTSTAMP:20260419T163642
CREATED:20210413T170123Z
LAST-MODIFIED:20210722T125838Z
UID:63-1633204800-1633213800@www.slim-chance.co.uk
SUMMARY:Court Theatre Tring
DESCRIPTION:BOOK YOUR TICKETS
URL:https://www.slim-chance.co.uk/event/court-theatre-tring/
LOCATION:Court Theatre Tring\, Station Rd\, Tring\, HP23 5QY\, United Kingdom
ATTACH;FMTTYPE=image/jpeg:https://www.slim-chance.co.uk/wp-content/uploads/2021/04/bluesbartring-700.jpg
END:VEVENT
BEGIN:VEVENT
DTSTART;TZID=Europe/London:20210923T200000
DTEND;TZID=Europe/London:20210923T230000
DTSTAMP:20260419T163642
CREATED:20210416T110225Z
LAST-MODIFIED:20210722T125507Z
UID:215-1632427200-1632438000@www.slim-chance.co.uk
SUMMARY:Duke of Cumberland
DESCRIPTION:Fancy a day at the seaside? Come and join us the Duke of Cumberland \nBook your tickets
URL:https://www.slim-chance.co.uk/event/duke-of-cumberland/
LOCATION:Duke of Cumberland\, High Street\, Whitstable\, Kent\, CT5 1AP\, United Kingdom
ATTACH;FMTTYPE=image/jpeg:https://www.slim-chance.co.uk/wp-content/uploads/2021/04/duke-cumberland-700.jpg
END:VEVENT
BEGIN:VEVENT
DTSTART;TZID=Europe/London:20210625T090000
DTEND;TZID=Europe/London:20210625T230000
DTSTAMP:20260419T163642
CREATED:20210413T165309Z
LAST-MODIFIED:20210623T124754Z
UID:57-1624611600-1624662000@www.slim-chance.co.uk
SUMMARY:Chelmsford City Football Club
DESCRIPTION:Here’s the link for the streamed version of the gig:\nwww.momenthouse.com/blackfrogpresents  \nAttend in person:\nBOOK YOUR TICKETS \n 
URL:https://www.slim-chance.co.uk/event/chelmsford-city-football-club/
LOCATION:Chelmsford City Football Club\, Salerno Way\, Chelmsford\, Essex\, CM1 2EH\, United Kingdom
ATTACH;FMTTYPE=image/jpeg:https://www.slim-chance.co.uk/wp-content/uploads/2021/04/slim-chance-sepia-nobn.jpg
END:VEVENT
BEGIN:VEVENT
DTSTART;TZID=Europe/London:20210530T193000
DTEND;TZID=Europe/London:20210530T213000
DTSTAMP:20260419T163642
CREATED:20210525T100524Z
LAST-MODIFIED:20210526T111231Z
UID:1030-1622403000-1622410200@www.slim-chance.co.uk
SUMMARY:The Air ReStream
DESCRIPTION:Slim Chance celebrated the release of The Phoenix Tapes with a streamed live set and backstage conversation with Passing Show director\, Rupert Williams. The whole show was transmitted from Perry Vale Studios and will be available for 24 hours after transmission. \nGet a second chance to see the performance \nBOOK YOUR TICKETS
URL:https://www.slim-chance.co.uk/event/the-air-restream/
END:VEVENT
BEGIN:VEVENT
DTSTART;TZID=Europe/London:20210523T190000
DTEND;TZID=Europe/London:20210523T210000
DTSTAMP:20260419T163642
CREATED:20210511T123436Z
LAST-MODIFIED:20210511T123436Z
UID:996-1621796400-1621803600@www.slim-chance.co.uk
SUMMARY:The Passing Show
DESCRIPTION:Live Stream of The Passing Show by Rupert Williams\nSit back and relax and watch the live stream of this brilliant musical documentary directed by Rupert Williams tells the story of Ronnie Lane from his heyday with first the Small Faces and then the Faces through the sixties and seventies and then his experiments with a rural life and the touring musical circus that he dubbed The Passing Show. Finally it charts his latter days once he developed Multiple Sclerosis. Featuring numerous musical clips and interviews with family\, friends and colleagues including Eric Clapton\, Pete Townshend\, Ian McLagan\, Kenney Jones\, Glyn Johns\, Henry McCullough\, Joe Ely and many more. \nBOOK YOUR TICKET
URL:https://www.slim-chance.co.uk/event/the-passing-show/
ATTACH;FMTTYPE=image/jpeg:https://www.slim-chance.co.uk/wp-content/uploads/2021/04/passing-show.jpg
END:VEVENT
BEGIN:VEVENT
DTSTART;TZID=Europe/London:20210522T203000
DTEND;TZID=Europe/London:20210522T220000
DTSTAMP:20260419T163642
CREATED:20210427T172914Z
LAST-MODIFIED:20210504T145441Z
UID:856-1621715400-1621720800@www.slim-chance.co.uk
SUMMARY:The Air Stream
DESCRIPTION:Slim Chance celebrates the release of The Phoenix Tapes with a streamed live set and backstage conversation with Passing Show director\, Rupert Williams. The whole show will be transmitted from Perry Vale Studios and will be available for 24 hours after transmission. \nBOOK YOUR TICKETS
URL:https://www.slim-chance.co.uk/event/air-stream/
ATTACH;FMTTYPE=image/png:https://www.slim-chance.co.uk/wp-content/uploads/2021/04/airstream-420-black.png
END:VEVENT
END:VCALENDAR